BEGIN:VCALENDAR
VERSION:2.0
PRODID:-//eventon.com NONSGML v1.0//EN
CALSCALE:GREGORIAN
METHOD:PUBLISH
BEGIN:VEVENT
UID:69ea5807e4ebf
DTSTAMP:20260423T173359Z
DTSTART:20240514
DTEND:20240515
LOCATION:Mackay Entertainment and Convention Centre 258 Alfred Street
SUMMARY:Queensland Indigenous Family Violence Prevention Forum 2024
DESCRIPTION:The Aboriginal and Torres Strait Islander Forum Advisory Group 
 and team at QCDFVR warmly invite you to the Annual Queensland Indigenous Fa
 mily Violence Prevention Forum: Strength in Unity. This much-loved event br
 ings together workers and champions from across our state and beyond &#8211
 ; to learn\,  share\,  inspire and work together[..]\nhttps://noviolence.or
 g.au/events/queensland-indigenous-family-violence-prevention-forum-2024/
URL:https://noviolence.org.au/events/queensland-indigenous-family-violence-prevention-forum-2024/
END:VEVENT
END:VCALENDAR