BEGIN:VCALENDAR
VERSION:2.0
PRODID:-//eventon.com NONSGML v1.0//EN
CALSCALE:GREGORIAN
METHOD:PUBLISH
BEGIN:VEVENT
UID:69e66d80a804d
DTSTAMP:20260420T181632Z
DTSTART:20230509
DTEND:20230510
LOCATION:Mackay Entertainment and Convention Centre 258 Alfred Street
SUMMARY:Queensland Indigenous Family Violence Prevention Forum 2023
DESCRIPTION:SAVE THE DATE! The Queensland Indigenous Family Violence Preven
 tion Forum will be held on the 9th and 10th of May 2023. This year the even
 t will be held at Mackay Entertainment &amp; Convention Centre\,  Mackay. R
 EGISTRATIONS ARE NOW CLOSED\nhttps://noviolence.org.au/events/queensland-in
 digenous-family-violence-prevention-forum-2023/
URL:https://noviolence.org.au/events/queensland-indigenous-family-violence-prevention-forum-2023/
END:VEVENT
END:VCALENDAR