BEGIN:VCALENDAR
VERSION:2.0
PRODID:-//eventon.com NONSGML v1.0//EN
CALSCALE:GREGORIAN
METHOD:PUBLISH
BEGIN:VEVENT
UID:69ea5849625dd
DTSTAMP:20260423T173505Z
DTSTART:20220511
DTEND:20220512
LOCATION:Royal On The Park 152 Alice Street
SUMMARY:Queensland Indigenous Family Violence Prevention Forum 2022
DESCRIPTION:Save the Date! The 18th Annual Queensland Indigenous Family Vio
 lence Prevention Forum will be held on the 11th and 12th of May 2022. This 
 years theme will be &#8216;Staying Strong&#8217;\,  once again being held a
 t Royal on the Park in Brisbane. &nbsp;\nhttps://noviolence.org.au/events/q
 ueensland-indigenous-family-violence-prevention-forum-2022/
URL:https://noviolence.org.au/events/queensland-indigenous-family-violence-prevention-forum-2022/
END:VEVENT
END:VCALENDAR