BEGIN:VCALENDAR
VERSION:2.0
PRODID:-//eventon.com NONSGML v1.0//EN
CALSCALE:GREGORIAN
METHOD:PUBLISH
BEGIN:VEVENT
UID:69ea590da60d1
DTSTAMP:20260423T173821Z
DTSTART:20210528T090000Z
DTEND:20210528T123000Z
LOCATION:Royal On The Park 152 Alice Street
SUMMARY:Domestic Violence & Brain Injury Forum
DESCRIPTION:Time to talk about the important issue of domestic violence and
  brain injury. Over half (61%) of the hospitalisations for assault by a spo
 use or domestic partner included an injury to the head and/or neck in 2017â
 €“18. AIHW 2018. Victims of intimate partner violence may experience trauma
 tic brain injuries (TBIs)[..]\nhttps://noviolence.org.au/events/domestic-vi
 olence-brain-injury-forum/
URL:https://noviolence.org.au/events/domestic-violence-brain-injury-forum/
END:VEVENT
END:VCALENDAR