BEGIN:VCALENDAR
VERSION:2.0
PRODID:-//eventon.com NONSGML v1.0//EN
CALSCALE:GREGORIAN
METHOD:PUBLISH
BEGIN:VEVENT
UID:69eb920c39818
DTSTAMP:20260424T155348Z
DTSTART:20201013
DTEND:20201014
LOCATION:
SUMMARY:Workplace Responses to Intimate Partner Violence
DESCRIPTION:It is now well recognised that domestic and family violence is 
 a workplace issue that can impact on an employee&#8217;s safety\,  wellbein
 g\,  attendance and performance at work.  In particular\,  intimate partne
 r violence is likely to be the most prevalent form of this violence affecti
 ng the workforce. Evidence now suggests that[..]\nhttps://noviolence.org.au
 /events/workplace-responses-to-intimate-partner-violence/
URL:https://noviolence.org.au/events/workplace-responses-to-intimate-partner-violence/
END:VEVENT
END:VCALENDAR