BEGIN:VCALENDAR
VERSION:2.0
PRODID:-//eventon.com NONSGML v1.0//EN
CALSCALE:GREGORIAN
METHOD:PUBLISH
BEGIN:VEVENT
UID:69eb8d751d2de
DTSTAMP:20260424T153413Z
DTSTART:20171101
DTEND:20171102
LOCATION:Hilton Hotel 190 Elizabeth Street
SUMMARY:New ways of working: Queensland Gendered Violence Practitioner Forum
DESCRIPTION:Queensland’s policy and practice landscape has changed dramat
 ically in the past two years\,  as is reflected in the Queensland Women’s
  Strategy\,  the Not Now\,  Not Ever- Domestic and Family Violence Preventi
 on Strategy 2016-2026 and the Queensland Violence Against Women Prevention 
 Plan. The Queensland Gendered Violence Practitioner Forum was held on[..]\n
 https://noviolence.org.au/events/new-ways-of-working-queensland-gendered-vi
 olence-practitioner-forum/
URL:https://noviolence.org.au/events/new-ways-of-working-queensland-gendered-violence-practitioner-forum/
END:VEVENT
END:VCALENDAR