BEGIN:VCALENDAR
VERSION:2.0
PRODID:-//eventon.com NONSGML v1.0//EN
CALSCALE:GREGORIAN
METHOD:PUBLISH
BEGIN:VEVENT
UID:69ea58975ef2c
DTSTAMP:20260423T173623Z
DTSTART:20210512
DTEND:20210513
LOCATION:Royal On The Park 152 Alice Street
SUMMARY:Queensland Indigenous Family Violence Prevention Forum 2021
DESCRIPTION:The team at QCDFVR warmly invites you to the 17th Annual Queens
 land Indigenous Family Violence Prevention Forum: Growing Stronger. Our muc
 h-loved event brings together workers and champions from across our state a
 nd beyond &#8211; to learn\,  share\,  inspire and work together to keep ou
 r families strong. This year our Forum[..]\nhttps://noviolence.org.au/event
 s/queensland-indigenous-family-violence-prevention-forum/
URL:https://noviolence.org.au/events/queensland-indigenous-family-violence-prevention-forum/
END:VEVENT
END:VCALENDAR