BEGIN:VCALENDAR
VERSION:2.0
PRODID:-//eventon.com NONSGML v1.0//EN
CALSCALE:GREGORIAN
METHOD:PUBLISH
BEGIN:VEVENT
UID:69e76af0ef860
DTSTAMP:20260421T121752Z
DTSTART:20200309
DTEND:20200310
LOCATION:CQ University 160 Ann Street
SUMMARY:S.A.F.E. – Safe Accountable Facilitator Education
DESCRIPTION:What is this course about? Workers from a range of disciplines 
 facilitate group interventions for men who use violence in their relationsh
 ips. This training prepares and supports those who want to facilitate such 
 groups for men who have been violent\,  abusive and controlling of their wi
 ves or partners. Typically\,  these[..]\nhttps://noviolence.org.au/events/s
 -a-f-e-safe-accountable-facilitator-education-copy/
URL:https://noviolence.org.au/events/s-a-f-e-safe-accountable-facilitator-education-copy/
END:VEVENT
END:VCALENDAR