BEGIN:VCALENDAR
VERSION:2.0
PRODID:-//eventon.com NONSGML v1.0//EN
CALSCALE:GREGORIAN
METHOD:PUBLISH
BEGIN:VEVENT
UID:69e73e5cf3471
DTSTAMP:20260421T090740Z
DTSTART:20260520
DTEND:20260521
LOCATION:Mackay Entertainment and Convention Centre 258 Alfred Street
SUMMARY:Queensland Indigenous Family Violence Prevention Forum 2026
DESCRIPTION:The Aboriginal and Torres Strait Islander Forum Advisory Group\
 ,  together with the QCDFVR team\,  warmly invite you to attend the Annual 
 Queensland Indigenous Family Violence Prevention Forum: Strength in Unity. 
 This highly valued forum brings together practitioners\,  leaders\,  and ad
 vocates from across Queensland and beyond to learn from one another\, [..]\
 nhttps://noviolence.org.au/events/queensland-indigenous-family-violence-pre
 vention-forum-2026/
URL:https://noviolence.org.au/events/queensland-indigenous-family-violence-prevention-forum-2026/
END:VEVENT
END:VCALENDAR