BEGIN:VCALENDAR
VERSION:2.0
PRODID:-//eventon.com NONSGML v1.0//EN
CALSCALE:GREGORIAN
METHOD:PUBLISH
BEGIN:VEVENT
UID:69ea5754ef038
DTSTAMP:20260423T173100Z
DTSTART:20250514
DTEND:20250515
LOCATION:Royal On The Park 152 Alice Street
SUMMARY:Queensland Indigenous Family Violence Prevention Forum 2025
DESCRIPTION:The Aboriginal and Torres Strait Islander Forum Advisory Group 
 and team at QCDFVR warmly invite you to the Annual Queensland Indigenous Fa
 mily Violence Prevention Forum: Strength in Unity. This much-loved event br
 ings together workers and champions from across our state and beyond – to
  learn\,  share\,  inspire and work together[..]\nhttps://noviolence.org.au
 /events/queensland-indigenous-family-violence-prevention-forum-2025/
URL:https://noviolence.org.au/events/queensland-indigenous-family-violence-prevention-forum-2025/
END:VEVENT
END:VCALENDAR